BEGIN:VCALENDAR
VERSION:2.0
BEGIN:VEVENT
CLASS:PUBLIC
CATEGORIES:MEETING
DTSTART:20260416T163000Z
DTEND:20260416T163000Z
SUMMARY:Eleni Skiba at Private Event | Samantha Russell Duo
DESCRIPTION:Age Limit: All Ages\n\nDetails: Samantha Russell Duo
LOCATION:Private Event | Samantha Russell Duo - Delray Beach, Delray Beach, FL, US
END:VEVENT

END:VCALENDAR
