BEGIN:VCALENDAR
VERSION:2.0
BEGIN:VEVENT
CLASS:PUBLIC
CATEGORIES:MEETING
DTSTART;TZID=America/New_York:20260308T180000
DTEND;TZID=America/New_York:20260308T180000
SUMMARY:Eleni Skiba at Crawdaddy's
DESCRIPTION:Age Limit: All Ages\n\nDetails: Miz Behavin&#39;
LOCATION:Crawdaddy's - 1949 NE Jensen Beach Blvd, Jensen Beach, FL, 34957, US
END:VEVENT

END:VCALENDAR
