BEGIN:VCALENDAR
VERSION:2.0
BEGIN:VEVENT
CLASS:PUBLIC
CATEGORIES:MEETING
DTSTART;TZID=America/Chicago:20251202T203000
DTEND;TZID=America/Chicago:20251202T203000
SUMMARY:The Elders at Kansas City PBS Television
DESCRIPTION:Age Limit: All Ages\n\nDetails: Televised concert on Kansas Cit PBS
LOCATION:Kansas City PBS Television - 125 E 31st Street, Kansas City, MO, 64108, US
END:VEVENT

END:VCALENDAR
