BEGIN:VCALENDAR
VERSION:2.0
BEGIN:VEVENT
CLASS:PUBLIC
CATEGORIES:MEETING
DTSTART;TZID=America/Los_Angeles:20260416T123000
DTEND;TZID=America/Los_Angeles:20260416T123000
SUMMARY:Victorious Marcus at 🎆😱OMG 2000+TOP STORES PAID PARTNER AS 'Meta&Rayban''+14 NEW DEALS🎇
DESCRIPTION:Price: Varies\nClick here to buy tickets: https://mave.ly/the-victorious-marcus-shop\nAge Limit: All Ages\n\nDetails: 🎇Hey hope alls well! Lets Work OMG 😱14BIG NEW DEALS SIGNED TODAY PARTNER PAID DEAL WITH 2000+ STORES INCLUDING Walgreens, Walmart, Nordstroms, Macy, Meta 3D, DISH Network, GameStop&amp; Samsung ETC via &#39;Mavely&#39; Thanks for invite! \nTOP Stores Link:\nhttps://mave.ly/the-victorious-marcus-shop\n\n🎆😱OMGOOD THANKFUL🙏❤️14NEW BIIG WORLD CHANGING DEALS*Hints*@MY NEXT GRAMMY EMMY EQUIVALENT AWARDED TV RADIO SHOW &#39;The Victorious Marcus Show&#39; 10/17pm CST @BBS Radio TV!  WORLD CHANGING NEWS BESIDES COLLAB of 83GRAMMYS WON+PRINT MAGAZINE &#39;Rolling Stone Magazine&#39; PROD🎇Thanks NEW RECORD LABEL DEAL &#39;B&amp;R Music Group&#39; NEW TOUR IN PROD, NEW TV SHOW FT@PAY PER VIEW, RADIO COMMERCIAL, MAGAZINE COVER FT, MY OWN MERCHANDISE TO SELL, STAY TUNED🎇nexttorisetour.com lnkd.in/g_GZRMXb\n\nFROM HOMELESS/PREJUDICE/RACISM TO GRAMMY EMMY EQUIVALENT AWARDED &#39;The Victorious Marcus Show&#39; 🎇WATCH MY FLIPS WITH 31 +MILLION VIEWS/23BILLION VIEWS TOTAL: lnkd.in/gi--Kuuu \nThanks Birthday Wishes from celebs, family &amp; friends aor my birthday June 8th😁My Next TV Radio Show Feats Block Buster Movie Actor Ashton Kutcher, Interviewed EMMY WINNER Jeff Warren ETC. PARTNER DEAL with Movie Actor Zachary Levi from BLOCKBUSTER MOVIE &#39;Shazam&#39; to &#39;Nerd HQ&#39; nerdhq.org 🫢*Thank God🎇MY SHOW FT My GOLD/from Olympic Gymnastics Coach Bela Karoli Camp Honor of &quot;Most Outstanding Award&quot; Flips @12 YEARS OLD Besides being Former Jr Olympian Track went same Jr High School of MOST GRAMMYS Beyonce Knowles at &#39;Welch Middle School&#39; in Houston, TX🎇23BILLION VIEWS/15+YRS A LIST WORK FT NY MTV, DISNEY&#39;S &#39;The Hannah Montana Show&#39;, Commercials &#39;Hungry Man Dinners&#39;, Movies as &#39;The Hannah Movie&#39; FT GRAMMYS WON Miley Cyrus/Billy Raye Cyrus/ Taylor Swift ETC*FT on NETFLIX#1 &#39;Yes Day, FT GRAMMYS WON H.E.R., Movie In Prod. &#39;Apex&#39;ETC🎇@439Channels; lnkd.in/gUtAH79v Universal Music Group Distrib.+2 SPONSOR DEALS with &#39;Nbpure&#39; get yours today! nbpure.com/ TREAT OTHERS HOW YOU WANT TO BE TREATED. Judgement Day is COMING. 25AWARDS/DM New Work Deals/Sponsors/Investors ETC*My New TV Radio Show &#39;The Victorious Marcus Show&#39; Every 2Wks &#39;The Victorious Marcus Show&#39; 10/17 5pm CST bbsradio.com/TheVictoriousMarcusShow reverbnation.com/Victoriousmarcus
LOCATION:🎆😱OMG 2000+TOP STORES PAID PARTNER AS 'Meta&Rayban''+14 NEW DEALS🎇 - WORLDWIDE, Los Angeles, CA, 90249, US
END:VEVENT

END:VCALENDAR
