BEGIN:VCALENDAR
VERSION:2.0
BEGIN:VEVENT
CLASS:PUBLIC
CATEGORIES:MEETING
DTSTART;TZID=America/Los_Angeles:20251121T213000
DTEND;TZID=America/Los_Angeles:20251121T213000
SUMMARY:Bazerk at Boardners night club
DESCRIPTION:Price: 20\nClick here to buy tickets: https://www.eventbrite.com/o/club-decades-presents-33433911507\nAge Limit: 18+\n\nDetails: Doing new music off their album dust of the mic feat Busta rhymes going be a packed house 
LOCATION:Boardners night club - 1652 n cherokee ave, Hollywood, CA, 90028, US
END:VEVENT

END:VCALENDAR
