BEGIN:VCALENDAR
VERSION:2.0
BEGIN:VEVENT
CLASS:PUBLIC
CATEGORIES:MEETING
DTSTART;TZID=America/Los_Angeles:20251015T200000
DTEND;TZID=America/Los_Angeles:20251015T200000
SUMMARY:Bazerk at Club Decades
DESCRIPTION:Price: 20\nClick here to buy tickets: https://www.eventbrite.com/o/club-decades-presents-33433911507\nAge Limit: 18+\n\nDetails: Doing music off their album Dust off the mic feat Busta Rhymes sure to be a packed house in hollywood
LOCATION:Club Decades - 1652 n cherokee ave, Hollywood, CA, 90028, US
END:VEVENT

END:VCALENDAR
