BEGIN:VCALENDAR
VERSION:2.0
BEGIN:VEVENT
CLASS:PUBLIC
CATEGORIES:MEETING
DTSTART;TZID=America/New_York:20251026T180000
DTEND;TZID=America/New_York:20251026T180000
SUMMARY:Spiros Soukis at Pangea
DESCRIPTION:Price: $20\nClick here to buy tickets: https://cur8.com/18134/project/134679\nAge Limit: All Ages\n\nDetails: &quot;Layla and other assorted love songs&quot; \nAn acoustic tribute to Eric Clapton 
LOCATION:Pangea - 178 2nd Ave, New York, NY, 10003, US
END:VEVENT

END:VCALENDAR
