BEGIN:VCALENDAR
VERSION:2.0
BEGIN:VEVENT
CLASS:PUBLIC
CATEGORIES:MEETING
DTSTART:20250914T000000Z
DTEND:20250914T000000Z
SUMMARY:Marionnette Pointue at F.A.T. 2025
DESCRIPTION:Age Limit: All Ages
LOCATION:F.A.T. 2025 - Pavillon des Quinze, Moffet, QC, CA
END:VEVENT

END:VCALENDAR
