BEGIN:VCALENDAR
VERSION:2.0
BEGIN:VEVENT
CLASS:PUBLIC
CATEGORIES:MEETING
DTSTART;TZID=Europe/Dublin:20251112T200000
DTEND;TZID=Europe/Dublin:20251112T200000
SUMMARY:The Elders at Monroe's
DESCRIPTION:Age Limit: All Ages
LOCATION:Monroe's - Galway, IE
END:VEVENT

END:VCALENDAR
