BEGIN:VCALENDAR
VERSION:2.0
BEGIN:VEVENT
CLASS:PUBLIC
CATEGORIES:MEETING
DTSTART;TZID=America/Los_Angeles:20251101T190000
DTEND;TZID=America/Los_Angeles:20251101T190000
SUMMARY:Silver Lining at Neptunes Sunset Beach PCH and Warner
DESCRIPTION:Price: Free\nAge Limit: All Ages\n\nDetails: Live music with Silver Lining 
LOCATION:Neptunes Sunset Beach PCH and Warner - 15744 Goldenwest St, Huntington Beach, CA, 92647, US
END:VEVENT

END:VCALENDAR
