BEGIN:VCALENDAR
VERSION:2.0
BEGIN:VEVENT
CLASS:PUBLIC
CATEGORIES:MEETING
DTSTART;TZID=America/Los_Angeles:20260403T200000
DTEND;TZID=America/Los_Angeles:20260403T200000
SUMMARY:Victorious Marcus at 🎇🎆😱OMG 12 NEW BIG DEALS& CLIMBING HINTS ON NEXT TV RADIO SHOW 🎆🎇
DESCRIPTION:Price: Varies \nClick here to buy tickets: https://bbsradio.com/TheVictoriousMarcusShow\nAge Limit: All Ages\n\nDetails: 🎇Hey hope all is well! Lets Work :) OMG😱12BIG NEW DEALS HINTS@MY GRAMMYS EMMYS EQUIVALENT AWARD-The Victorious Marcus Show@BBSRADIOTV10/3* at BBS Radio TV!\n\n🎆😱OMGOOD THANKFUL🙏❤️12NEW BIIG WORLD CHANGING DEALS*Hints*@MY NEXT GRAMMY EMMY EQUIVALENT AWARDED TV RADIO SHOW &#39;The Victorious Marcus Show&#39;10/3 5pm CST @BBS Radio TV! WORLD CHANGING NEWS BESIDES COLLAB83GRAMMYS WON+PRINT MAGAZINE &#39;Rolling Stone Magazine&#39; @PROD🎇Thanks NEW RECORD LABEL DEAL &#39;B&amp;R Music Group&#39; NEW TOUR IN PROD, NEW TV SHOW FT@PAY PER VIEW, RADIO COMMERCIAL, MAGAZINE COVER FT, MY OWN MERCHANDISE TO SELL, STAY TUNED🎇nexttorisetour.com lnkd.in/g_GZRMXb\n\nFROM HOMELESS/PREJUDICE/RACISM TO GRAMMY EMMY EQUIVALENT AWARDED &#39;The Victorious Marcus Show&#39; 🎇WATCH MY FLIPS WITH 31 +MILLION VIEWS/23BILLION VIEWS TOTAL: lnkd.in/gi--Kuuu \nThanks Birthday Wishes from celebs, family &amp; friends for my birthday June 8th😁My Next TV Radio Show Feats Block Buster Movie Actor Ashton Kutcher, Interviewed EMMY WINNER Jeff Warren ETC*PARTNER DEAL with Movie Actor Zachary Levi from BLOCKBUSTER MOVIE &#39;Shazam&#39; to &#39;Nerd HQ&#39; nerdhq.org 🫢*Thank God🎇MY SHOW FT My GOLD/from Olympic Gymnastics Coach Bela Karoli Camp Honor of &quot;Most Outstanding Award&quot; Flips @12 YEARS OLD Besides being a Former Jr Olympian Track went same Jr High School of MOST GRAMMYS Beyonce Knowles at &#39;Welch Middle School&#39; in Houston, TX🎇23BILLION VIEWS/15+YRS A LIST WORK FT NY MTV, DISNEY&#39;S &#39;The Hannah Montana Show&#39;, Commercials &#39;Hungry Man Dinners&#39;, Movies as &#39;The Hannah Movie&#39; FT GRAMMYS WON Miley Cyrus/Billy Raye Cyrus/ Taylor Swift ETC*FT on NETFLIX#1 &#39;Yes Day, FT GRAMMYS WON H.E.R., Movie In Prod. &#39;Apex&#39;ETC🎇@439 Channels; lnkd.in/gUtAH79v Universal Music Group Distrib.+2 SPONSOR DEALS with &#39;Nbpure&#39;*Get yours today! @nbpure #nbpure nbpure.com/ TREAT OTHERS HOW YOU WANT TO BE TREATED Judgement Day is COMING. 25AWARDS/DM New Work Deals/Sponsors/Investors ETC*My New TV Radio Show &#39;The Victorious Marcus Show&#39; Every 2Weeks &#39;The Victorious Marcus Show&#39; 10/3 5pm CST SCHEDULE @BBS Radio TV - on &quot;Station 1&quot; channel! https://lnkd.in/gjNDyT9i\nShow Arvhive\nhttps://lnkd.in/g6mHiifw\nhttps://lnkd.in/eNg2mEdlq
LOCATION:🎇🎆😱OMG 12 NEW BIG DEALS& CLIMBING HINTS ON NEXT TV RADIO SHOW 🎆🎇 - WORLDWIDE, Los Angeles, CA, 90249, US
END:VEVENT

END:VCALENDAR
