BEGIN:VCALENDAR
VERSION:2.0
BEGIN:VEVENT
CLASS:PUBLIC
CATEGORIES:MEETING
DTSTART;TZID=America/Chicago:20251114T203000
DTEND;TZID=America/Chicago:20251114T203000
SUMMARY:Texas Flood at The Bartonville Store & Jeter’s Meat Shop
DESCRIPTION:Click here to buy tickets: https://www.stubwire.com/e/36755/texasfloodliveatbartonvillestore/thebartonvillestore/\nAge Limit: All Ages
LOCATION:The Bartonville Store & Jeter’s Meat Shop - 96 McMakin Road, Bartonville, TX, 76226, US
END:VEVENT

END:VCALENDAR
