BEGIN:VCALENDAR
VERSION:2.0
BEGIN:VEVENT
CLASS:PUBLIC
CATEGORIES:MEETING
DTSTART;TZID=America/Chicago:20251115T210000
DTEND;TZID=America/Chicago:20251115T210000
SUMMARY:Texas Flood at Scout Bar
DESCRIPTION:Click here to buy tickets: https://www.eventticketscenter.com/texas-flood-houston-11-15-2025/7388753/t\nAge Limit: All Ages
LOCATION:Scout Bar - 18307 South Egret Bay Boulevard, Houston, TX, 77058, US
END:VEVENT

END:VCALENDAR
