BEGIN:VCALENDAR
VERSION:2.0
BEGIN:VEVENT
CLASS:PUBLIC
CATEGORIES:MEETING
DTSTART;TZID=America/Chicago:20251106T180000
DTEND;TZID=America/Chicago:20251106T180000
SUMMARY:Brian Grace Music at PINS Bowling Alley
DESCRIPTION:Age Limit: All Ages\n\nDetails: Brian Grace &amp; JC Pringle will be at PINS Bowling Alley on Thursday, November 6th at 6 PM!
LOCATION:PINS Bowling Alley - 2210 East US Highway 377, Granbury, TX, 76049, US
END:VEVENT

END:VCALENDAR
