BEGIN:VCALENDAR
VERSION:2.0
BEGIN:VEVENT
CLASS:PUBLIC
CATEGORIES:MEETING
DTSTART;TZID=America/Chicago:20251107T200000
DTEND;TZID=America/Chicago:20251107T200000
SUMMARY:Brian Grace Music at Lone Star Bar & Grill
DESCRIPTION:Age Limit: All Ages\n\nDetails: Brian Grace and JC Pringle will be at Lone Star Bar &amp; Grill in Burleson on Friday, November 7th from 8-11:30 PM!
LOCATION:Lone Star Bar & Grill - 212 West Ellison Street, Burleson, TX, 76028, US
END:VEVENT

END:VCALENDAR
