BEGIN:VCALENDAR
VERSION:2.0
BEGIN:VEVENT
CLASS:PUBLIC
CATEGORIES:MEETING
DTSTART;TZID=America/Chicago:20251220T190000
DTEND;TZID=America/Chicago:20251220T190000
SUMMARY:The Elders at Cure of Ars Activity Center 
DESCRIPTION:Price: $25-$75\nClick here to buy tickets: https://my.onecause.com/event/organizations/sf-001C0000014YbY8IAK/events/vevt:ec37e32e-b5fe-4ef4-a187-f90a90a7ff07/shop/fixed-price/vfpi:ead8bc04-9531-4a5d-97ea-55a834d77898\nAge Limit: 21+\n\nDetails: 100 VIP tickets   $75\n400 GA                 $25
LOCATION:Cure of Ars Activity Center  - 9400 MISSION ROAD, Leawood, KS, 66206, US
END:VEVENT

END:VCALENDAR
