BEGIN:VCALENDAR
VERSION:2.0
BEGIN:VEVENT
CLASS:PUBLIC
CATEGORIES:MEETING
DTSTART;TZID=America/New_York:20251004T200000
DTEND;TZID=America/New_York:20251004T200000
SUMMARY:Travis Reid Ball at The Moose Lodge
DESCRIPTION:Age Limit: All Ages
LOCATION:The Moose Lodge - 120 Main St, Coshocton, OH, 43812, US
END:VEVENT

END:VCALENDAR
