BEGIN:VCALENDAR
VERSION:2.0
BEGIN:VEVENT
CLASS:PUBLIC
CATEGORIES:MEETING
DTSTART;TZID=America/New_York:20260117T173000
DTEND;TZID=America/New_York:20260117T173000
SUMMARY:LESSON ZERO at Death Ridge Brewery
DESCRIPTION:Price: free\nAge Limit: All Ages\n\nDetails: Great place to hear live music. Friendly folks, plenty of parking, good food and drinks, no cover, and way cool music from Oasis recording artist LESSON ZERO
LOCATION:Death Ridge Brewery - 5393 higher ground trail, Jeffersonton, VA, 22724, US
END:VEVENT

END:VCALENDAR
