BEGIN:VCALENDAR
VERSION:2.0
BEGIN:VEVENT
CLASS:PUBLIC
CATEGORIES:MEETING
DTSTART;TZID=America/Chicago:20251017T190000
DTEND;TZID=America/Chicago:20251017T190000
SUMMARY:Michael Charles at Moonlight Theater
DESCRIPTION:Price: $25\nClick here to buy tickets: https://moonlighttheatre.com/events/blues-legend-michael-charles-guitars-music-and-miles-2025/\nAge Limit: All Ages\n\nDetails: “The Guitars, Music and Miles 2025 tour drives the power trio of Australian born Michael Charles straight to you for a non-stop concert explosion of music and guitars, contemporary blues, high energy rock, and soulful ballads from the forty-one release discography of multi-genre Chicago Blues Hall of Famer Michael Charles.” 
LOCATION:Moonlight Theater - 7 South 2nd Avenue, St. Charles, IL, 60174, US
END:VEVENT

END:VCALENDAR
