BEGIN:VCALENDAR
VERSION:2.0
BEGIN:VEVENT
CLASS:PUBLIC
CATEGORIES:MEETING
DTSTART;TZID=America/New_York:20250917T170000
DTEND;TZID=America/New_York:20250917T170000
SUMMARY:Cormorant's Fancy at Ganly's Irish Pub & Restaurant
DESCRIPTION:Age Limit: All Ages\n\nDetails: Celebreate Halfway to St. Patrick&#39;s Day with all your favorite Irish songs and tunes, a Guiness Special, and Ganly&#39;s unbeatable food, drink and service!
LOCATION:Ganly's Irish Pub & Restaurant - 500 Brownsville Road, Sinking Spring, PA, 19608, US
END:VEVENT

END:VCALENDAR
