BEGIN:VCALENDAR
VERSION:2.0
BEGIN:VEVENT
CLASS:PUBLIC
CATEGORIES:MEETING
DTSTART;TZID=America/Kentucky/Louisville:20250910T190000
DTEND;TZID=America/Kentucky/Louisville:20250910T190000
SUMMARY:Aaron Dozer at Bearno’s 502 Tap House
DESCRIPTION:Age Limit: All Ages
LOCATION:Bearno’s 502 Tap House - 10212 Taylorsville Road, Louisville, KY, 40299, US
END:VEVENT

END:VCALENDAR
