BEGIN:VCALENDAR
VERSION:2.0
BEGIN:VEVENT
CLASS:PUBLIC
CATEGORIES:MEETING
DTSTART;TZID=America/New_York:20260301T180000
DTEND;TZID=America/New_York:20260301T180000
SUMMARY:Eleni Skiba at Tiki 52 At Blowing Rocks Marina
DESCRIPTION:Age Limit: All Ages\n\nDetails: Samantha Russell Duo
LOCATION:Tiki 52 At Blowing Rocks Marina - 18487 SE Federal Hwy, Tequesta, FL, 33469, US
END:VEVENT

END:VCALENDAR
