BEGIN:VCALENDAR
VERSION:2.0
BEGIN:VEVENT
CLASS:PUBLIC
CATEGORIES:MEETING
DTSTART;TZID=America/Chicago:20260304T130000
DTEND;TZID=America/Chicago:20260304T130000
SUMMARY:DANICA ~ Solo at Mariluna
DESCRIPTION:Age Limit: All Ages
LOCATION:Mariluna - 6700 Padre Boulevard, South Padre Island, TX, 78597, US
END:VEVENT

END:VCALENDAR
