BEGIN:VCALENDAR
VERSION:2.0
BEGIN:VEVENT
CLASS:PUBLIC
CATEGORIES:MEETING
DTSTART;TZID=America/New_York:20260524T140000
DTEND;TZID=America/New_York:20260524T140000
SUMMARY:Eleni Skiba at Guanabanas
DESCRIPTION:Age Limit: All Ages\n\nDetails: Samantha Russell Duo
LOCATION:Guanabanas - 960 N Hwy A1a, Jupiter, FL, 33477, US
END:VEVENT

END:VCALENDAR
