BEGIN:VCALENDAR
VERSION:2.0
BEGIN:VEVENT
CLASS:PUBLIC
CATEGORIES:MEETING
DTSTART;TZID=America/Chicago:20251128T183000
DTEND;TZID=America/Chicago:20251128T183000
SUMMARY:Brian Grace Music at The Old Gin
DESCRIPTION:Age Limit: All Ages\n\nDetails: Brian Grace will be at The Old Gin in Wortham, TX on Friday, November 28th at 6:30 PM!
LOCATION:The Old Gin - 404 North 3rd Street, Wortham, TX, 76693, US
END:VEVENT

END:VCALENDAR
