BEGIN:VCALENDAR
VERSION:2.0
BEGIN:VEVENT
CLASS:PUBLIC
CATEGORIES:MEETING
DTSTART;TZID=America/Chicago:20251101T180000
DTEND;TZID=America/Chicago:20251101T180000
SUMMARY:Brian Grace Music at Bosque Resort Restaurant
DESCRIPTION:Age Limit: All Ages\n\nDetails: Brian Grace and JC Pringle will be at Bosque Resort on Saturday, November 1st at 6 PM!
LOCATION:Bosque Resort Restaurant - 341 State Hwy 22, Laguna Park, TX, 76644, US
END:VEVENT

END:VCALENDAR
