BEGIN:VCALENDAR
VERSION:2.0
BEGIN:VEVENT
CLASS:PUBLIC
CATEGORIES:MEETING
DTSTART;TZID=America/Chicago:20251004T190000
DTEND;TZID=America/Chicago:20251004T190000
SUMMARY:Brian Grace Music at HARD 8 BBQ
DESCRIPTION:Age Limit: All Ages\n\nDetails: Brian Grace will be at Hard 8 in Coppell, TX on Saturday, October 4th at 7 PM!
LOCATION:HARD 8 BBQ - COPPELL, TX, US
END:VEVENT

END:VCALENDAR
