BEGIN:VCALENDAR
VERSION:2.0
BEGIN:VEVENT
CLASS:PUBLIC
CATEGORIES:MEETING
DTSTART;TZID=America/Denver:20250905T180000
DTEND;TZID=America/Denver:20250905T180000
SUMMARY:Brian Grace Music at The Bucksnort Saloon
DESCRIPTION:Age Limit: All Ages\n\nDetails: Brian Grace will be at the Bucksnort Saloon in Friday, September 1st at 6 PM!
LOCATION:The Bucksnort Saloon - 15921 S Elk Creek Rd, Pine, CO, 80470, US
END:VEVENT

END:VCALENDAR
