BEGIN:VCALENDAR
VERSION:2.0
BEGIN:VEVENT
CLASS:PUBLIC
CATEGORIES:MEETING
DTSTART;TZID=America/Chicago:20251105T193000
DTEND;TZID=America/Chicago:20251105T193000
SUMMARY:Texas Flood at DES PLAINES THEATER
DESCRIPTION:Click here to buy tickets: https://oshows.com/event/texas-flood-music-of-stevie-ray-vaughan-with-journeyman-tribute-to-eric-clapton-5/?fbclid=IwY2xjawMh1rdleHRuA2FlbQIxMABicmlkETFLcDY1Y3c5NldhemFXaXFiAR7N0Pb8r-wLBpuLvEkkBKuJ19wHSxCIwa_uhaaxRpwcdbg5SheBF00YZqzOag_aem_z_1q427UQi_zMKt\nAge Limit: All Ages
LOCATION:DES PLAINES THEATER - 1476 Miner Street, Des Plaines, IL, 60016, US
END:VEVENT

END:VCALENDAR
