BEGIN:VCALENDAR
VERSION:2.0
BEGIN:VEVENT
CLASS:PUBLIC
CATEGORIES:MEETING
DTSTART;TZID=America/Chicago:20250926T200000
DTEND;TZID=America/Chicago:20250926T200000
SUMMARY:The Elders at Downtown Overland Park
DESCRIPTION:Age Limit: All Ages
LOCATION:Downtown Overland Park - 79th & Santa Fe Drive, Overland Park, KS, 66204, US
END:VEVENT

END:VCALENDAR
