BEGIN:VCALENDAR
VERSION:2.0
BEGIN:VEVENT
CLASS:PUBLIC
CATEGORIES:MEETING
DTSTART;TZID=Australia/Melbourne:20250920T190000
DTEND;TZID=Australia/Melbourne:20250920T190000
SUMMARY:Zeus The Prophet at Radio Bar & Cafe
DESCRIPTION:Price: 30\nAge Limit: 18+\n\nDetails: NJE – “Press Rewind” Single Launch\nwith Special Guests: Zeus The Prophet, Charisma, TrayQ, Cursum, Epic The Elite, Ozzr &amp; Exfold\n\nRadio Bar &amp; Cafe – 357 Brunswick St, Melbourne, VIC 3065\nWednesday, 9 April 2025\nDoors open: 7:00 PM\nTickets: $30 (Limited availability)\n\nGet ready for a massive night of authentic Hip Hop as NJE takes over Fitzroy for the official single launch of Press Rewind. This event brings together some of the sharpest lyricists and performers in the game for an unmissable evening of music, culture, and connection.\n\nExpect a full night of beats, bars, and real Hip Hop vibes in an intimate venue that puts you right in the heart of the action.\n\nNJE\n\nZeus The Prophet\n\nCharisma\n\nTrayQ\n\nCursum\n\nEpic The Elite\n\nOzzr &amp; Exfold
LOCATION:Radio Bar & Cafe - 357 Brunswick St, Melbourne, VIC, 3065, AU
END:VEVENT

END:VCALENDAR
