BEGIN:VCALENDAR
VERSION:2.0
BEGIN:VEVENT
CLASS:PUBLIC
CATEGORIES:MEETING
DTSTART;TZID=America/New_York:20250920T120000
DTEND;TZID=America/New_York:20250920T120000
SUMMARY:Diamonds in Jupiter at House
DESCRIPTION:Age Limit: All Ages\n\nDetails: FREE event\nWe will be performing one hour only from 12-1PM  Music, arts, crafts, and food throughout the Forest Hill area!  Stop by and enjoy!
LOCATION:House - 316 Highland Avenue, Newark, NJ, 07104, US
END:VEVENT

END:VCALENDAR
