BEGIN:VCALENDAR
VERSION:2.0
BEGIN:VEVENT
CLASS:PUBLIC
CATEGORIES:MEETING
DTSTART;TZID=America/New_York:20250906T200000
DTEND;TZID=America/New_York:20250906T200000
SUMMARY:Travis Reid Ball at Dolphin Lounge
DESCRIPTION:Age Limit: 17+\n\nDetails: With New Mother Nature 
LOCATION:Dolphin Lounge - 345 Agler Rd, Columbus, OH, 43230, US
END:VEVENT

END:VCALENDAR
