BEGIN:VCALENDAR
VERSION:2.0
BEGIN:VEVENT
CLASS:PUBLIC
CATEGORIES:MEETING
DTSTART;TZID=America/New_York:20251231T200000
DTEND;TZID=America/New_York:20251231T200000
SUMMARY:Scott Verville at Currently Playing guitar for Soul Fire
DESCRIPTION:Age Limit: All Ages\n\nDetails: Currently Playing guitar for Soul Fire
LOCATION:Currently Playing guitar for Soul Fire - 0001 Palm Dr, Palm Coast, FL, 32164, US
END:VEVENT

END:VCALENDAR
