BEGIN:VCALENDAR
VERSION:2.0
BEGIN:VEVENT
CLASS:PUBLIC
CATEGORIES:MEETING
DTSTART;TZID=America/New_York:20251206T200000
DTEND;TZID=America/New_York:20251206T200000
SUMMARY:Crackhead Mafia at Bartini Bar & Lounge
DESCRIPTION:Price: $10\nClick here to buy tickets: https://www.facebook.com/events/25022857394046745\nAge Limit: 21+\n\nDetails: facebook.com/events/25022857394046745
LOCATION:Bartini Bar & Lounge - 124 North Carll Avenue, Babylon, NY, 11702, US
END:VEVENT

END:VCALENDAR
