BEGIN:VCALENDAR
VERSION:2.0
BEGIN:VEVENT
CLASS:PUBLIC
CATEGORIES:MEETING
DTSTART;TZID=America/Los_Angeles:20250830T150000
DTEND;TZID=America/Los_Angeles:20250830T150000
SUMMARY:The Elders at ITNS Radio Musicians United Festival
DESCRIPTION:Price: $10 donation\nClick here to buy tickets: https://buy.stripe.com/9B600j9Ucbfn0Ha3CXaEE20\nAge Limit: All Ages\n\nDetails: **EVERYONE IS INVITED!!** Experience the magic of a hometown KC show with exclusive band interviews in a special livestream event ***AUGUST 30th, 3pm CST***\nPROCEEDS BENEFIT Operation Breakthrough supporting kids &amp; their families.\nPresented by ITNS Radio Musicians United Festivals. We would love to have you join us!! Tickets on our website on the &quot;upcoming shows&quot; tab. \n
LOCATION:ITNS Radio Musicians United Festival - Las Vegas, Las Vegas, NV, US
END:VEVENT

END:VCALENDAR
