BEGIN:VCALENDAR
VERSION:2.0
BEGIN:VEVENT
CLASS:PUBLIC
CATEGORIES:MEETING
DTSTART;TZID=America/Chicago:20260625T180000
DTEND;TZID=America/Chicago:20260625T180000
SUMMARY:Diamond Dixie at The Hangout
DESCRIPTION:Age Limit: All Ages\n\nDetails: We&#39;ll be playing from 6:00-10:00pm
LOCATION:The Hangout - 101 E Beach Blvd, Gulf Shores, AL, 36542, US
END:VEVENT

END:VCALENDAR
