BEGIN:VCALENDAR
VERSION:2.0
BEGIN:VEVENT
CLASS:PUBLIC
CATEGORIES:MEETING
DTSTART;TZID=America/Chicago:20251025T190000
DTEND;TZID=America/Chicago:20251025T190000
SUMMARY:Texas Flood at Marty B'S
DESCRIPTION:Age Limit: All Ages
LOCATION:Marty B'S - 2644 Farm to Market Road 407, Bartonville, TX, 76226, US
END:VEVENT

END:VCALENDAR
