BEGIN:VCALENDAR
VERSION:2.0
BEGIN:VEVENT
CLASS:PUBLIC
CATEGORIES:MEETING
DTSTART;TZID=America/New_York:20250920T150000
DTEND;TZID=America/New_York:20250920T150000
SUMMARY:Diamonds in Jupiter at PORCHFEST
DESCRIPTION:Age Limit: All Ages\n\nDetails: Porchfest in Forest Hill, Newark area will be hosting the band, arts and crafts, food trucks,  and all kinds of music free for everyone!   Stop by and enjoy!
LOCATION:PORCHFEST - 316 Highland Ave, Newark, NJ, 07104, US
END:VEVENT

END:VCALENDAR
