BEGIN:VCALENDAR
VERSION:2.0
BEGIN:VEVENT
CLASS:PUBLIC
CATEGORIES:MEETING
DTSTART;TZID=America/Denver:20250824T160000
DTEND;TZID=America/Denver:20250824T160000
SUMMARY:Brian Grace Music at Craft Mountain Brewery
DESCRIPTION:Age Limit: All Ages\n\nDetails: Brian Grace will be at Craft Mountain Brewery on Sunday, August 24th at 4 PM!
LOCATION:Craft Mountain Brewery - 23 Main Street, Bailey, CO, 80421, US
END:VEVENT

END:VCALENDAR
