BEGIN:VCALENDAR
VERSION:2.0
BEGIN:VEVENT
CLASS:PUBLIC
CATEGORIES:MEETING
DTSTART;TZID=America/Chicago:20251031T193000
DTEND;TZID=America/Chicago:20251031T193000
SUMMARY:Texas Flood at Songbird Live!
DESCRIPTION:Click here to buy tickets: https://www.songbirdlive.com/event-details/tribute-to-stevie-ray-vaughan-texas-flood\nAge Limit: All Ages
LOCATION:Songbird Live! - 210 East Henderson Street, Cleburne, TX, 76031, US
END:VEVENT

END:VCALENDAR
