BEGIN:VCALENDAR
VERSION:2.0
BEGIN:VEVENT
CLASS:PUBLIC
CATEGORIES:MEETING
DTSTART;TZID=America/Denver:20250817T140000
DTEND;TZID=America/Denver:20250817T140000
SUMMARY:Brian Grace Music at Blue Moose
DESCRIPTION:Age Limit: All Ages\n\nDetails: Brian Grace and Dave Doran will be at The Blue Moose Tavern on Sunday, August 17th at 2 PM!
LOCATION:Blue Moose - 10545 Ute Pass Avenue, Green Mtn Falls, CO, 80819, US
END:VEVENT

END:VCALENDAR
