BEGIN:VCALENDAR
VERSION:2.0
BEGIN:VEVENT
CLASS:PUBLIC
CATEGORIES:MEETING
DTSTART;TZID=America/Los_Angeles:20251219T200000
DTEND;TZID=America/Los_Angeles:20251219T200000
SUMMARY:Silver Lining at Jimmy E's 
DESCRIPTION:Age Limit: All Ages\n\nDetails: Live music with Silver Lining 
LOCATION:Jimmy E's  - 2951 Cherry Ave, Signal Hills, CA, 90755, US
END:VEVENT

END:VCALENDAR
