BEGIN:VCALENDAR
VERSION:2.0
BEGIN:VEVENT
CLASS:PUBLIC
CATEGORIES:MEETING
DTSTART;TZID=America/Los_Angeles:20251003T180000
DTEND;TZID=America/Los_Angeles:20251003T180000
SUMMARY:Silver Lining at Taco Surf
DESCRIPTION:Price: Free\nAge Limit: All Ages\n\nDetails: Live music from Silver 
LOCATION:Taco Surf - 16281 Pacific Coast Hwy, Sunset Beach, CA, 90743, US
END:VEVENT

END:VCALENDAR
