BEGIN:VCALENDAR
VERSION:2.0
BEGIN:VEVENT
CLASS:PUBLIC
CATEGORIES:MEETING
DTSTART;TZID=Europe/Stockholm:20250905T190000
DTEND;TZID=Europe/Stockholm:20250905T190000
SUMMARY:Spiros Soukis at Salnecke Slottscafé och Bistro
DESCRIPTION:Age Limit: All Ages\n\nDetails: Rockin` Blues with Greek Soul!
LOCATION:Salnecke Slottscafé och Bistro - Gryta Salnecke 11, 749  63 Orsundsbro, ORSUN, SE
END:VEVENT

END:VCALENDAR
