BEGIN:VCALENDAR
VERSION:2.0
BEGIN:VEVENT
CLASS:PUBLIC
CATEGORIES:MEETING
DTSTART;TZID=Europe/Stockholm:20250904T190000
DTEND;TZID=Europe/Stockholm:20250904T190000
SUMMARY:Spiros Soukis at Hotell Botanika
DESCRIPTION:Age Limit: All Ages\n\nDetails: Rockin` Blues With Greek Soul in Uppsala Sweden!
LOCATION:Hotell Botanika - Skolgatan 45, 753 32, Uppsala Sverige, UPPSA, SE
END:VEVENT

END:VCALENDAR
