BEGIN:VCALENDAR
VERSION:2.0
BEGIN:VEVENT
CLASS:PUBLIC
CATEGORIES:MEETING
DTSTART;TZID=America/Chicago:20251221T160000
DTEND;TZID=America/Chicago:20251221T160000
SUMMARY:Texas Flood at Love and War In Texas (PLANO)
DESCRIPTION:Click here to buy tickets: https://www.outhousetickets.com/events/law-shiner-texas-flood\nAge Limit: All Ages
LOCATION:Love and War In Texas (PLANO) - 601 E Plano Pkwy, Plano, TX, 75074, US
END:VEVENT

END:VCALENDAR
