BEGIN:VCALENDAR
VERSION:2.0
BEGIN:VEVENT
CLASS:PUBLIC
CATEGORIES:MEETING
DTSTART;TZID=America/Chicago:20250920T200000
DTEND;TZID=America/Chicago:20250920T200000
SUMMARY:Brian Grace Music at Sweetwater Grill
DESCRIPTION:Age Limit: All Ages\n\nDetails: Brian Grace &amp; Jason Herrin will be at Sweetwater Grill in Royse City on Saturday, September 20th from 8-11 PM!
LOCATION:Sweetwater Grill - 4884 State 276, Royse City, TX, 75189, US
END:VEVENT

END:VCALENDAR
