BEGIN:VCALENDAR
VERSION:2.0
BEGIN:VEVENT
CLASS:PUBLIC
CATEGORIES:MEETING
DTSTART;TZID=America/Chicago:20250918T180000
DTEND;TZID=America/Chicago:20250918T180000
SUMMARY:Brian Grace Music at PINS Bowling Alley
DESCRIPTION:Age Limit: All Ages\n\nDetails: Brian Grace will be at PINS Bowling Alley at 6 PM on Thursday, September 18th!
LOCATION:PINS Bowling Alley - 2210 East US Highway 377, Granbury, TX, 76049, US
END:VEVENT

END:VCALENDAR
