BEGIN:VCALENDAR
VERSION:2.0
BEGIN:VEVENT
CLASS:PUBLIC
CATEGORIES:MEETING
DTSTART;TZID=America/Denver:20250801T180000
DTEND;TZID=America/Denver:20250801T180000
SUMMARY:Brian Grace Music at Colorado Mountain Distillery
DESCRIPTION:Age Limit: All Ages\n\nDetails: Brian Grace will be at Colorado Mountain Distillers on Friday, August 1st at 6 PM!
LOCATION:Colorado Mountain Distillery - 611 Canyon Drive, Florissant, CO, 80816, US
END:VEVENT

END:VCALENDAR
